BEGIN:VCALENDAR
VERSION:2.0
PRODID:-//ChamberMaster//Event Calendar 2.0//EN
METHOD:PUBLISH
X-PUBLISHED-TTL:P3D
REFRESH-INTERVAL:P3D
CALSCALE:GREGORIAN
BEGIN:VEVENT
DTSTART:20170928T213000Z
DTEND:20170928T220000Z
X-MICROSOFT-CDO-ALLDAYEVENT:FALSE
SUMMARY:RIbbon Cutting - Stamp Shop Central
DESCRIPTION:We will give the official welcome to new member Stamp Shop Central at an upcoming ribbon cutting to be held at M's on 4th / Uncorked.  Stamp Shop Central  provides customizes stamps for businesses internationally and can meet all your business needs whether it be Notary stamps\, embossers\, general stock stamps as well as stamps for specific professions and certifications such as architect\, contractor\, and engineer stamps.  Drinks and appetizers will be served.
X-ALT-DESC;FMTTYPE=text/html:We will give the official welcome to new member Stamp Shop Central at an upcoming ribbon cutting to be held at M&#39\;s on 4th / Uncorked. &nbsp\;Stamp Shop Central &nbsp\;provides customizes stamps for businesses internationally and can meet all your business needs whether it be Notary stamps\, embossers\, general stock stamps as well as stamps for specific professions and certifications such as architect\, contractor\, and engineer stamps. &nbsp\;Drinks and appetizers will be served.
LOCATION:Hosted at M's on 4th / Uncorked 1019 4th Street\, Sioux City
UID:e.769.3567
SEQUENCE:3
DTSTAMP:20260420T044225Z
URL:https://directory.siouxlandchamber.com/events/details/ribbon-cutting-stamp-shop-central-3567
END:VEVENT

END:VCALENDAR
