BEGIN:VCALENDAR
VERSION:2.0
PRODID:-//ChamberMaster//Event Calendar 2.0//EN
METHOD:PUBLISH
X-PUBLISHED-TTL:P3D
REFRESH-INTERVAL:P3D
CALSCALE:GREGORIAN
BEGIN:VEVENT
DTSTART:20180308T213000Z
DTEND:20180308T220000Z
X-MICROSOFT-CDO-ALLDAYEVENT:FALSE
SUMMARY:Ribbon Cutting - Sola Salon
DESCRIPTION:Sola Salon Studio  is excited to be open in Sioux City and will host a Ribbon Cutting followed by an Open House until 6:00 pm to celebrate! \n\n\n\nPlease join us to hear about their services and learn how this salon provides independent beauty professionals with high-end\, fully equipped salon studios alongside the support and tools they need to launch their salon business in no time.
X-ALT-DESC;FMTTYPE=text/html:Sola Salon Studio&nbsp\; is excited to be open in Sioux City and will host a Ribbon Cutting followed by an Open House until 6:00 pm to celebrate!&nbsp\;<br />\n<br />\nPlease join us to hear about their services and learn how this salon provides independent beauty professionals with high-end\, fully equipped salon studios alongside the support and tools they&nbsp\;need to launch their salon business in no time.&nbsp\;&nbsp\;
LOCATION:1772 Hamilton Boulevard Sioux City
UID:e.769.4660
SEQUENCE:3
DTSTAMP:20260420T115954Z
URL:https://directory.siouxlandchamber.com/events/details/ribbon-cutting-sola-salon-4660
END:VEVENT

END:VCALENDAR
