BEGIN:VCALENDAR
VERSION:2.0
PRODID:-//ChamberMaster//Event Calendar 2.0//EN
METHOD:PUBLISH
X-PUBLISHED-TTL:P3D
REFRESH-INTERVAL:P3D
CALSCALE:GREGORIAN
BEGIN:VEVENT
DTSTART:20191022T193000Z
DTEND:20191022T200000Z
X-MICROSOFT-CDO-ALLDAYEVENT:FALSE
SUMMARY:Ribbon Cutting - Smith's Professional Cleaning Services
DESCRIPTION:Please join us in welcoming new Siouxland Chamber member\, Smith Professional Cleaning Services with a Ribbon Cutting!
X-ALT-DESC;FMTTYPE=text/html:Please join us in welcoming new Siouxland Chamber member\, Smith Professional Cleaning Services with a Ribbon Cutting!
LOCATION:101 Pierce Street Sioux City\, IA 51101
UID:e.769.5222
SEQUENCE:3
DTSTAMP:20260421T164615Z
URL:https://directory.siouxlandchamber.com/events/details/ribbon-cutting-smith-s-professional-cleaning-services-5222
END:VEVENT

END:VCALENDAR
