BEGIN:VCALENDAR
VERSION:2.0
PRODID:-//ChamberMaster//Event Calendar 2.0//EN
METHOD:PUBLISH
X-PUBLISHED-TTL:P3D
REFRESH-INTERVAL:P3D
CALSCALE:GREGORIAN
BEGIN:VEVENT
DTSTART:20220831T213000Z
DTEND:20220831T220000Z
X-MICROSOFT-CDO-ALLDAYEVENT:FALSE
SUMMARY:Ribbon Cutting - Siouxland Pickleball Association
DESCRIPTION:Join us in welcoming the Siouxland Pickleball Association to the Siouxland Chamber (finally!) and help us celebrate their new renovations! \n\n\n\nIn 2020\, the City of Sioux City renovated 5 underused tennis courts into 2 tennis courts and 8 pickleball courts at Riverside Park next to the public pool located at 1301 Riverside Blvd. These are the first dedicated courts for pickleball in the Siouxland area. The Siouxland Pickleball Association is grateful for the City's support of pickleball\, and since that time the SPA subsequently applied for and received a generous grant from MRHD along with other financial support from businesses and individuals to purchase shade structures in the staging area between pickleball courts. Additional improvements include wind screens\, a storage box for balls\, paddles and other equipment\, and 6 new picnic tables have been ordered and should arrive soon. With over 300 members and growing in less than 2 years\, the SPA wants to continue partnering with the City and others to provide quality indoor and outdoor places to play pickleball for players of all ages in the Siouxland area.
X-ALT-DESC;FMTTYPE=text/html:<span style="color:black\;"><span style="font-size:12.0pt\;">Join us in welcoming the Siouxland Pickleball Association to the Siouxland Chamber (finally!) and help us celebrate their new renovations!&nbsp\;<br />\n<br />\nIn 2020\, the City of Sioux City renovated 5 underused tennis courts into 2 tennis courts and 8 pickleball courts at Riverside Park next to the public pool located at 1301 Riverside Blvd. These are the first dedicated courts for pickleball in the Siouxland area. The Siouxland Pickleball Association is grateful for the City&#39\;s support of pickleball\, and since that time the SPA subsequently applied for and received a generous grant from MRHD along with other financial support from businesses and individuals to purchase shade structures in the staging area between pickleball courts. Additional improvements include wind screens\, a storage box for balls\, paddles and other equipment\, and 6 new picnic tables have been ordered and should arrive soon. With over 300 members and growing in less than 2 years\, the SPA wants to continue partnering with the City and others to provide quality indoor and outdoor places to play pickleball for players of all ages in the Siouxland area.</span></span>
LOCATION:1301 Riverside Blvd Sioux City\, IA 51109
UID:e.769.5851
SEQUENCE:3
DTSTAMP:20260420T003636Z
URL:https://directory.siouxlandchamber.com/events/details/ribbon-cutting-siouxland-pickleball-association-5851
END:VEVENT

END:VCALENDAR
