BEGIN:VCALENDAR
VERSION:2.0
PRODID:-//ChamberMaster//Event Calendar 2.0//EN
METHOD:PUBLISH
X-PUBLISHED-TTL:P3D
REFRESH-INTERVAL:P3D
CALSCALE:GREGORIAN
BEGIN:VEVENT
DTSTART:20220517T163000Z
DTEND:20220517T170000Z
X-MICROSOFT-CDO-ALLDAYEVENT:FALSE
SUMMARY:Ribbon Cutting - Siouxland Philanthropy
DESCRIPTION:Join us in welcoming Siouxland Philanthropy to the Siouxland Chamber!\n\n\n\nSiouxland Philanthropy was founded on 12/5/19 with a mission of "bringing professionals together to learn\, share\, grow\, and connect in the Siouxland philanthropy field." The organization brings professionals together to network around fundraising and philanthropy\, encourages best & ethical fundraising practices\, offers opportunities for continual training\, and provides one source for community-based and fundraising events.
X-ALT-DESC;FMTTYPE=text/html:Join us in welcoming Siouxland Philanthropy to the Siouxland Chamber!<br />\n<br />\nSiouxland Philanthropy was founded on 12/5/19 with a mission of &quot\;bringing professionals together to learn\, share\, grow\, and connect in the Siouxland philanthropy field.&quot\; The organization brings professionals together to network around fundraising and philanthropy\, encourages best &amp\; ethical fundraising practices\, offers opportunities for continual training\, and provides one source for community-based and fundraising events.&nbsp\;
LOCATION:Sioux City Art Center 225 Nebraska St Sioux City\, IA 51101
UID:e.769.5795
SEQUENCE:3
DTSTAMP:20260420T053245Z
URL:https://directory.siouxlandchamber.com/events/details/ribbon-cutting-siouxland-philanthropy-5795
END:VEVENT

END:VCALENDAR
