BEGIN:VCALENDAR
VERSION:2.0
PRODID:-//ChamberMaster//Event Calendar 2.0//EN
METHOD:PUBLISH
X-PUBLISHED-TTL:P3D
REFRESH-INTERVAL:P3D
CALSCALE:GREGORIAN
BEGIN:VEVENT
DTSTART:20170112T231500Z
DTEND:20170112T234500Z
X-MICROSOFT-CDO-ALLDAYEVENT:FALSE
SUMMARY:Ribbon Cutting - Siouxland Paramedics
DESCRIPTION:Siouxland Paramedics has moved to a new location and will celebrate with a ribbon cutting and open house with wine and appetizers.  Siouxland Paramedics Inc. is the sole 911 ambulance provider for Sioux City\, North Sioux City\, and Western Plymouth County.  It is committed to providing the highest quality out of hospital patient care and transportation to citizens and visitors of the Siouxland Region.  Please join us in congratulating them on their new location.
X-ALT-DESC;FMTTYPE=text/html:Siouxland Paramedics has moved to a new location and will celebrate with a ribbon cutting and open house with wine and appetizers.&nbsp\; Siouxland Paramedics Inc. is the sole 911 ambulance provider for Sioux City\, North Sioux City\, and Western Plymouth County.&nbsp\; It is committed to providing the highest quality out of hospital patient care and transportation to citizens and visitors of the Siouxland Region.&nbsp\; Please join us in congratulating them on their new location.
LOCATION:1110 Dace Avenue Sioux City
UID:e.769.3411
SEQUENCE:3
DTSTAMP:20260419T151601Z
URL:https://directory.siouxlandchamber.com/events/details/ribbon-cutting-siouxland-paramedics-3411
END:VEVENT

END:VCALENDAR
