BEGIN:VCALENDAR
VERSION:2.0
PRODID:-//ChamberMaster//Event Calendar 2.0//EN
METHOD:PUBLISH
X-PUBLISHED-TTL:P3D
REFRESH-INTERVAL:P3D
CALSCALE:GREGORIAN
BEGIN:VEVENT
DTSTART:20180130T220000Z
DTEND:20180130T223000Z
X-MICROSOFT-CDO-ALLDAYEVENT:FALSE
SUMMARY:Ribbon Cutting - Siouxland Obstetrics & Gynecology
DESCRIPTION:The Siouxland Chamber will welcome new member Siouxland Obstetrics & Gynecology at an upcoming ribbon cutting with an open house following until 5:30 PM.  Please join us and meet Doctors Aldrich\, Eastman\, Hunt\, Holtz and Dewald and hear a special announcement regarding the clinic. \n\n\n\nSiouxland Obstetrics and Gynecology PC provides medical care to women from adolescence through post-menopause in a comfortable\, compassionate setting.  They offer a wide scope of services for every stage in a woman's life\, from family planning and infertility services to the latest in gynecological care\, including 4-DE ultrasound and robot-assisted surgery.
X-ALT-DESC;FMTTYPE=text/html:The Siouxland&nbsp\;Chamber will welcome new member Siouxland Obstetrics &amp\; Gynecology&nbsp\;at an upcoming ribbon cutting with an open house following until 5:30 PM.&nbsp\; Please join us and meet Doctors Aldrich\, Eastman\, Hunt\, Holtz and Dewald&nbsp\;and hear a special announcement regarding the clinic.&nbsp\;<br />\n<br />\nSiouxland Obstetrics and Gynecology PC provides medical care to women from adolescence through post-menopause in a comfortable\, compassionate setting.&nbsp\; They offer a wide scope of services for every stage in a woman&#39\;s life\, from family planning and infertility services to the latest in gynecological care\, including 4-DE ultrasound and robot-assisted surgery.&nbsp\;&nbsp\;
LOCATION:2730 Pierce Street\, Suite 201 Sioux City
UID:e.769.4620
SEQUENCE:3
DTSTAMP:20260420T093200Z
URL:https://directory.siouxlandchamber.com/events/details/ribbon-cutting-siouxland-obstetrics-gynecology-4620
END:VEVENT

END:VCALENDAR
