BEGIN:VCALENDAR
VERSION:2.0
PRODID:-//ChamberMaster//Event Calendar 2.0//EN
METHOD:PUBLISH
X-PUBLISHED-TTL:P3D
REFRESH-INTERVAL:P3D
CALSCALE:GREGORIAN
BEGIN:VEVENT
DTSTART:20180720T163000Z
DTEND:20180720T170000Z
X-MICROSOFT-CDO-ALLDAYEVENT:FALSE
SUMMARY:Ribbon Cutting - Siouxland Mental Health Center
DESCRIPTION:Siouxland Mental Health has recently remodeled thanks to a grant from Missouri River Historical Development\, Inc.  Siouxland Mental Health Center serves all individuals within Woodbury County for the treatment of mental illness with several agencies in the community for increased accessibility.  Please join us for their upcoming ribbon cutting at their 5th Street location to see the improvements and stay and visit at the reception following.
X-ALT-DESC;FMTTYPE=text/html:Siouxland Mental Health has recently remodeled thanks to a grant from Missouri River Historical Development\, Inc.&nbsp\; Siouxland&nbsp\;Mental Health Center serves all individuals within Woodbury County for the treatment of mental illness with several agencies in the community for increased accessibility.&nbsp\; Please join us for their upcoming ribbon cutting at their 5th Street location to see the improvements and stay and visit at the reception following.&nbsp\;&nbsp\;
LOCATION:205 5th Street Sioux City
UID:e.769.4722
SEQUENCE:3
DTSTAMP:20260420T181600Z
URL:https://directory.siouxlandchamber.com/events/details/ribbon-cutting-siouxland-mental-health-center-4722
END:VEVENT

END:VCALENDAR
