BEGIN:VCALENDAR
VERSION:2.0
PRODID:-//ChamberMaster//Event Calendar 2.0//EN
METHOD:PUBLISH
X-PUBLISHED-TTL:P3D
REFRESH-INTERVAL:P3D
CALSCALE:GREGORIAN
BEGIN:VEVENT
DTSTART:20240523T213000Z
DTEND:20240523T220000Z
X-MICROSOFT-CDO-ALLDAYEVENT:FALSE
SUMMARY:Ribbon Cutting - Siouxland Growth Organization
DESCRIPTION:Join us as we cut the ribbon to kick off Siouxland Growth Organization's 14th Annual Innovation Market. The Innovation Market will follow until 6:30pm. This event is open to the public and will have lots of food and drinks for guests. All attendees are eligible to vote. \n\n\n\nInnovation Market\, started in 2009\, is Siouxland's biggest business idea competition. This competition\, hosted by Siouxland Growth Organization (SGO)\, gives Siouxlanders an opportunity to kick-start their business by giving them a chance at winning the grand prize of $5\,000.
X-ALT-DESC;FMTTYPE=text/html:Join us as we cut the ribbon to kick off Siouxland Growth Organization&#39\;s 14th Annual Innovation Market. The Innovation Market will follow until 6:30pm. This event is open to the public and will have lots of food and drinks for guests. All attendees are eligible to vote.&nbsp\;<br />\n<br />\n<strong>Innovation Market</strong>\, started in 2009\, is Siouxland&rsquo\;s biggest business idea competition.&nbsp\;This competition\, hosted by Siouxland Growth Organization (SGO)\, gives Siouxlanders an opportunity to kick-start their business by giving them a chance at winning the grand prize of $5\,000.<br />\n&nbsp\;
LOCATION:Badgerow Flats - Skyview Lounge 622 4th Street Sioux City. IA
UID:e.769.6249
SEQUENCE:3
DTSTAMP:20260421T001419Z
URL:https://directory.siouxlandchamber.com/events/details/ribbon-cutting-siouxland-growth-organization-6249
END:VEVENT

END:VCALENDAR
