BEGIN:VCALENDAR
VERSION:2.0
PRODID:-//ChamberMaster//Event Calendar 2.0//EN
METHOD:PUBLISH
X-PUBLISHED-TTL:P3D
REFRESH-INTERVAL:P3D
CALSCALE:GREGORIAN
BEGIN:VEVENT
DTSTART:20221111T163000Z
DTEND:20221111T170000Z
X-MICROSOFT-CDO-ALLDAYEVENT:FALSE
SUMMARY:Ribbon Cutting - Siouxland Freedom Park
DESCRIPTION:Please join us in celebrating Siouxland Freedom Park's new trails/sidewalks that connect their various attractions.
X-ALT-DESC;FMTTYPE=text/html:Please join us in celebrating Siouxland Freedom Park&#39\;s new trails/sidewalks that connect their various attractions.&nbsp\;
LOCATION:1801 Veterans Drive South Sioux City\, NE 68776
UID:e.769.5896
SEQUENCE:3
DTSTAMP:20260419T195813Z
URL:https://directory.siouxlandchamber.com/events/details/ribbon-cutting-siouxland-freedom-park-5896
END:VEVENT

END:VCALENDAR
