BEGIN:VCALENDAR
VERSION:2.0
PRODID:-//ChamberMaster//Event Calendar 2.0//EN
METHOD:PUBLISH
X-PUBLISHED-TTL:P3D
REFRESH-INTERVAL:P3D
CALSCALE:GREGORIAN
BEGIN:VEVENT
DTSTART:20200122T160000Z
DTEND:20200122T163000Z
X-MICROSOFT-CDO-ALLDAYEVENT:FALSE
SUMMARY:Ribbon Cutting - Siouxland Federal Credit Union
DESCRIPTION:Please join us for a Ribbon Cutting celebrating the new location of Siouxland Chamber of Commerce member\, Siouxland Federal Credit Union. This will be a joint Ribbon Cutting with the South Sioux City Chamber.
X-ALT-DESC;FMTTYPE=text/html:Please join us for a Ribbon Cutting celebrating the new location of Siouxland Chamber of Commerce member\, Siouxland Federal Credit Union. This will be a joint Ribbon Cutting with the South Sioux City Chamber.
LOCATION:4709 Southern Hills Drive Sioux City\, IA 51106
UID:e.769.5324
SEQUENCE:3
DTSTAMP:20260421T211730Z
URL:https://directory.siouxlandchamber.com/events/details/ribbon-cutting-siouxland-federal-credit-union-5324
END:VEVENT

END:VCALENDAR
