BEGIN:VCALENDAR
VERSION:2.0
PRODID:-//ChamberMaster//Event Calendar 2.0//EN
METHOD:PUBLISH
X-PUBLISHED-TTL:P3D
REFRESH-INTERVAL:P3D
CALSCALE:GREGORIAN
BEGIN:VEVENT
DTSTART:20220826T160000Z
DTEND:20220826T163000Z
X-MICROSOFT-CDO-ALLDAYEVENT:FALSE
SUMMARY:Ribbon Cutting - Siouxland Expo Center
DESCRIPTION:Join us for a PIG deal as the Siouxland Expo Center announces their naming rights.
X-ALT-DESC;FMTTYPE=text/html:Join us for a PIG deal as the Siouxland Expo Center announces their naming rights.&nbsp\;
LOCATION:550 Expo Center Drive Sioux City\, IA 51101
UID:e.769.5857
SEQUENCE:3
DTSTAMP:20260420T003550Z
URL:https://directory.siouxlandchamber.com/events/details/ribbon-cutting-siouxland-expo-center-5857
END:VEVENT

END:VCALENDAR
