BEGIN:VCALENDAR
VERSION:2.0
PRODID:-//ChamberMaster//Event Calendar 2.0//EN
METHOD:PUBLISH
X-PUBLISHED-TTL:P3D
REFRESH-INTERVAL:P3D
CALSCALE:GREGORIAN
BEGIN:VEVENT
DTSTART:20161004T150000Z
DTEND:20161004T153000Z
X-MICROSOFT-CDO-ALLDAYEVENT:FALSE
SUMMARY:Ribbon Cutting - Siouxland District Health Department
DESCRIPTION:The Siouxland District Health Department has remodeled their clinic and will celebrate with a Siouxland Chamber Ribbon Cutting.  Siouxland District Health's services include public health nursing\, nutrition\, laboratory\, health planning and environmental services in Woodbury County with expanded environmental programs in ten northwest Iowa counties.  \n\n\n\nPlease join us in congratulating them on their improvements and support their vision to create a "healthy community for all".
X-ALT-DESC;FMTTYPE=text/html:The Siouxland District Health Department has remodeled their clinic and will celebrate with a Siouxland Chamber Ribbon Cutting. &nbsp\;Siouxland District Health&#39\;s services include public health nursing\, nutrition\, laboratory\, health planning and environmental services in Woodbury County with expanded environmental programs in ten northwest Iowa counties. &nbsp\;<br />\n<br />\nPlease join us in congratulating them on their improvements and support their&nbsp\;vision to create a &quot\;healthy community for all&quot\;.&nbsp\;
LOCATION:1014 Nebraska Street Sioux City
UID:e.769.3339
SEQUENCE:3
DTSTAMP:20260421T130834Z
URL:https://directory.siouxlandchamber.com/events/details/ribbon-cutting-siouxland-district-health-department-3339
END:VEVENT

END:VCALENDAR
