BEGIN:VCALENDAR
VERSION:2.0
PRODID:-//ChamberMaster//Event Calendar 2.0//EN
METHOD:PUBLISH
X-PUBLISHED-TTL:P3D
REFRESH-INTERVAL:P3D
CALSCALE:GREGORIAN
BEGIN:VEVENT
DTSTART:20220914T213000Z
DTEND:20220914T220000Z
X-MICROSOFT-CDO-ALLDAYEVENT:FALSE
SUMMARY:Ribbon Cutting - Siouxland Community Health\, South Sioux City Clinic
DESCRIPTION:Join us in celebrating Siouxland Community Health's new location and completed renovations! \n\n\n\nA year ago Siouxland Community Health Center purchased their South Sioux City clinic property at 3410 Futures Drive in South Sioux City. In the last year\, they have added laboratory services and an in-clinic pharmacy complete with a drive-thru. They also offer walk-in urgent care for acute illnesses\, behavioral care\, vaccinations\, child well exams\, adult health exams\, immigration physicals and school and sports physicals.
X-ALT-DESC;FMTTYPE=text/html:Join us in celebrating Siouxland Community Health&#39\;s new location and completed renovations!&nbsp\;<br />\n<br />\nA year ago Siouxland Community Health Center purchased their South Sioux City clinic property at 3410 Futures Drive in South Sioux City. In the last year\, they have added laboratory services and an in-clinic pharmacy complete with a drive-thru. They also offer walk-in urgent care for acute illnesses\, behavioral care\, vaccinations\, child well exams\, adult health exams\, immigration physicals and school and sports physicals.
LOCATION:3410 Futures Dr. South Sioux City\, NE
UID:e.769.5856
SEQUENCE:3
DTSTAMP:20260419T232941Z
URL:https://directory.siouxlandchamber.com/events/details/ribbon-cutting-siouxland-community-health-south-sioux-city-clinic-5856
END:VEVENT

END:VCALENDAR
