BEGIN:VCALENDAR
VERSION:2.0
PRODID:-//ChamberMaster//Event Calendar 2.0//EN
METHOD:PUBLISH
X-PUBLISHED-TTL:P3D
REFRESH-INTERVAL:P3D
CALSCALE:GREGORIAN
BEGIN:VEVENT
DTSTART:20221114T170000Z
DTEND:20221114T173000Z
X-MICROSOFT-CDO-ALLDAYEVENT:FALSE
SUMMARY:Ribbon Cutting - Siouxland Community Health
DESCRIPTION:Join us for a ribbon cutting to kick-off Siouxland Community Health Center's Marathon Challenge event.
X-ALT-DESC;FMTTYPE=text/html:Join us for a ribbon cutting to kick-off Siouxland Community Health Center's Marathon Challenge event.&nbsp\;
LOCATION:Tyson Events Center 401 Gordon Drive Sioux City\, IA 51101
UID:e.769.5888
SEQUENCE:3
DTSTAMP:20260419T195856Z
URL:https://directory.siouxlandchamber.com/events/details/ribbon-cutting-siouxland-community-health-5888
END:VEVENT

END:VCALENDAR
