BEGIN:VCALENDAR
VERSION:2.0
PRODID:-//ChamberMaster//Event Calendar 2.0//EN
METHOD:PUBLISH
X-PUBLISHED-TTL:P3D
REFRESH-INTERVAL:P3D
CALSCALE:GREGORIAN
BEGIN:VEVENT
DTSTART:20170110T200000Z
DTEND:20170110T203000Z
X-MICROSOFT-CDO-ALLDAYEVENT:FALSE
SUMMARY:Ribbon Cutting - Siouxland Coalition Against Human Trafficking
DESCRIPTION:We will recognize new member\, Siouxland Coalition Against Human Trafficking with a ribbon cutting at the Betty Strong Encounter Center.  A reception will follow.  Please join them as part of National Slavery and Human Trafficking Awareness Month\, and learn about trafficking problems in Siouxland and the role you can play in its abolishment. In conjunction with the ribbon cutting\, the Break the Silence Human Trafficking Exhibit will be displayed from Tuesday\, January 10th  through Thursday\, January 12th at the Betty Strong Encounter Center for the public to view.
X-ALT-DESC;FMTTYPE=text/html:We will recognize new member\, Siouxland Coalition Against Human Trafficking with a ribbon cutting at the Betty Strong Encounter Center. &nbsp\;A reception will follow. &nbsp\;Please join them as part of National Slavery and Human Trafficking Awareness Month\, and learn about trafficking problems in Siouxland and the role you can play in its abolishment. In conjunction with the ribbon cutting\, the Break the Silence Human Trafficking Exhibit will be displayed from Tuesday\, January 10th&nbsp\; through Thursday\, January 12th at the Betty Strong Encounter Center for the public to view. &nbsp\;
LOCATION:Betty Strong Encounter Center (connected to the Lewis & Clark Interpretive Center) 900 Larson Park Road
UID:e.769.3428
SEQUENCE:3
DTSTAMP:20260419T164841Z
URL:https://directory.siouxlandchamber.com/events/details/ribbon-cutting-siouxland-coalition-against-human-trafficking-3428
END:VEVENT

END:VCALENDAR
