BEGIN:VCALENDAR
VERSION:2.0
PRODID:-//ChamberMaster//Event Calendar 2.0//EN
METHOD:PUBLISH
X-PUBLISHED-TTL:P3D
REFRESH-INTERVAL:P3D
CALSCALE:GREGORIAN
BEGIN:VEVENT
DTSTART:20170821T203000Z
DTEND:20170821T210000Z
X-MICROSOFT-CDO-ALLDAYEVENT:FALSE
SUMMARY:Ribbon Cutting - Siouxland Christian School
DESCRIPTION:A ribbon cutting ceremony will mark the start of the 2017-18 school year in the newly renovated Siouxland Christian School.  Please join the celebration and have a look at the modernized school with updated technology including electronic whiteboards\, a new basketball court\, and much more.
X-ALT-DESC;FMTTYPE=text/html:A ribbon cutting ceremony will mark the start of the 2017-18 school year in the newly renovated Siouxland Christian School. &nbsp\;Please join the celebration and have a look at the modernized school with updated technology including electronic whiteboards\, a new basketball court\, and much more.
LOCATION:6000 Gordon Drive\, Sioux City
UID:e.769.3553
SEQUENCE:3
DTSTAMP:20260420T015655Z
URL:https://directory.siouxlandchamber.com/events/details/ribbon-cutting-siouxland-christian-school-3553
END:VEVENT

END:VCALENDAR
