BEGIN:VCALENDAR
VERSION:2.0
PRODID:-//ChamberMaster//Event Calendar 2.0//EN
METHOD:PUBLISH
X-PUBLISHED-TTL:P3D
REFRESH-INTERVAL:P3D
CALSCALE:GREGORIAN
BEGIN:VEVENT
DTSTART:20160912T180000Z
DTEND:20160912T183000Z
X-MICROSOFT-CDO-ALLDAYEVENT:FALSE
SUMMARY:Ribbon Cutting - Siouxland Center for Active Generations
DESCRIPTION:The Siouxland Center for Active Generations will be unveiling their newly remodeled and expanded fitness room.  To celebrate they will hold a Chamber ribbon cutting ceremony. \n\n\n\nThe Center provides a place where seniors can remain active\, educated\, independent and healthy.  Whether your interests lie in educational programs\, computer classes\, recreational activities or financial issues\, they have something for you!  Please join us in congratulating them on their improvements to our community enhancements.
X-ALT-DESC;FMTTYPE=text/html:<span style="font-family:arial narrow\,sans-serif\;">The Siouxland Center for Active Generations will be unveiling their newly remodeled and expanded fitness room.&nbsp\; To celebrate they will hold a Chamber ribbon cutting ceremony.&nbsp\;</span><br />\n<br />\n<span style="font-family:arial narrow\,sans-serif\;">The Center provides a place where seniors can remain active\, educated\, independent and healthy.&nbsp\; Whether your interests lie in educational programs\, computer classes\, recreational activities or financial issues\, they have something for you!&nbsp\; Please join us in congratulating them on their improvements to our community enhancements.</span>
LOCATION:313 Cook Street Sioux City
UID:e.769.3330
SEQUENCE:3
DTSTAMP:20260421T142257Z
URL:https://directory.siouxlandchamber.com/events/details/ribbon-cutting-siouxland-center-for-active-generations-3330
END:VEVENT

END:VCALENDAR
