BEGIN:VCALENDAR
VERSION:2.0
PRODID:-//ChamberMaster//Event Calendar 2.0//EN
METHOD:PUBLISH
X-PUBLISHED-TTL:P3D
REFRESH-INTERVAL:P3D
CALSCALE:GREGORIAN
BEGIN:VEVENT
DTSTART:20170509T233000Z
DTEND:20170510T000000Z
X-MICROSOFT-CDO-ALLDAYEVENT:FALSE
SUMMARY:Ribbon Cutting - Sioux Rivers Region Assessment & Stabilization Center
DESCRIPTION:We will welcome new member\, Sioux Rivers Region Assessment & Stabilization Center with a Chamber Ribbon Cutting.  Sioux Rivers Region Assessment & Stabilization Center is staffed by a team of professionals available for those experiencing an increase in the severity of their mental health symptoms.  This is a warm\, inviting place for individuals to be stabilized and return to the community on a voluntary basis.  Please join us in welcoming them to the Chamber.
X-ALT-DESC;FMTTYPE=text/html:We will welcome new member\, Sioux Rivers Region Assessment &amp\; Stabilization Center with a Chamber Ribbon Cutting. &nbsp\;Sioux Rivers Region Assessment &amp\; Stabilization Center is staffed by a team of professionals available for those experiencing an increase in the severity of their mental health symptoms. &nbsp\;This is a warm\, inviting place for individuals to be stabilized and return to the community on a voluntary basis. &nbsp\;Please join us in welcoming them to the Chamber.
LOCATION:4038 Division Street Sioux City
UID:e.769.3480
SEQUENCE:3
DTSTAMP:20260419T213655Z
URL:https://directory.siouxlandchamber.com/events/details/ribbon-cutting-sioux-rivers-region-assessment-stabilization-center-3480
END:VEVENT

END:VCALENDAR
