BEGIN:VCALENDAR
VERSION:2.0
PRODID:-//ChamberMaster//Event Calendar 2.0//EN
METHOD:PUBLISH
X-PUBLISHED-TTL:P3D
REFRESH-INTERVAL:P3D
CALSCALE:GREGORIAN
BEGIN:VEVENT
DTSTART:20180521T210000Z
DTEND:20180521T213000Z
X-MICROSOFT-CDO-ALLDAYEVENT:FALSE
SUMMARY:Ribbon Cutting - Sioux City Symphony Orchestra
DESCRIPTION:The Sioux City Symphony Orchestra is excited to announce their new\, integrated ticketing software and we'll put it to work when we kick off the opening of general admission ticket sales for the Symphony's Star Wars:  A New Hope in Concert.  Reserve your spot to see the movie that started it all on the big screen in the Sioux City Orpheum Theatre\, and the Symphony Orchestra will provide the music for the film LIVE!  Sioux City is one of a very small group of orchestras in America that have been awarded this film.  It's an event so BIG they are doing it twice:  Saturday\, September 29th at 7:00 PM and a Sunday matinee on September 30th at 3:00 PM.
X-ALT-DESC;FMTTYPE=text/html:<span style="font-size:14px\;"><span style="font-family:tahoma\;">The Sioux City Symphony Orchestra is excited to announce their new\, integrated ticketing software and we&rsquo\;ll put it to work when we kick off the opening of general admission ticket sales for the Symphony&rsquo\;s Star Wars:&nbsp\; A New Hope in Concert.&nbsp\; Reserve your spot to see the movie that started it all on the big screen in the Sioux City Orpheum Theatre\, and the Symphony Orchestra will provide the music for the film LIVE! &nbsp\;Sioux City is one of a very small group of orchestras in America that have been awarded this film.&nbsp\; It&rsquo\;s an event so BIG they are doing it twice:&nbsp\; Saturday\, September 29<sup>th</sup> at 7:00 PM and a Sunday matinee on September 30th at 3:00 PM.</span></span>
LOCATION:518 Pierce Street Sioux City
UID:e.769.4715
SEQUENCE:3
DTSTAMP:20260420T150003Z
URL:https://directory.siouxlandchamber.com/events/details/ribbon-cutting-sioux-city-symphony-orchestra-4715
END:VEVENT

END:VCALENDAR
