BEGIN:VCALENDAR
VERSION:2.0
PRODID:-//ChamberMaster//Event Calendar 2.0//EN
METHOD:PUBLISH
X-PUBLISHED-TTL:P3D
REFRESH-INTERVAL:P3D
CALSCALE:GREGORIAN
BEGIN:VEVENT
DTSTART:20181002T221500Z
DTEND:20181002T224500Z
X-MICROSOFT-CDO-ALLDAYEVENT:FALSE
SUMMARY:Ribbon Cutting - Sioux City Public Schools Foundation
DESCRIPTION:The Sioux City Public Schools Foundation has new office space in the Ho-Chunk Centre.  Please join the Siouxland Chamber and South Sioux City Chamber for a ribbon cutting followed by a reception to celebrate.
X-ALT-DESC;FMTTYPE=text/html:The Sioux City Public Schools Foundation has new office space in the Ho-Chunk Centre.&nbsp\; Please join the Siouxland Chamber and South Sioux City Chamber for a ribbon cutting followed by a reception to celebrate.
LOCATION:Ho-Chunk Centre 600 4th Street\, Suite 213 Sioux City\, IA
UID:e.769.4810
SEQUENCE:3
DTSTAMP:20260420T225648Z
URL:https://directory.siouxlandchamber.com/events/details/ribbon-cutting-sioux-city-public-schools-foundation-4810
END:VEVENT

END:VCALENDAR
