BEGIN:VCALENDAR
VERSION:2.0
PRODID:-//ChamberMaster//Event Calendar 2.0//EN
METHOD:PUBLISH
X-PUBLISHED-TTL:P3D
REFRESH-INTERVAL:P3D
CALSCALE:GREGORIAN
BEGIN:VEVENT
DTSTART:20160726T150000Z
DTEND:20160726T153000Z
X-MICROSOFT-CDO-ALLDAYEVENT:FALSE
SUMMARY:Ribbon Cutting - Sioux City Public Schools Foundation
DESCRIPTION:The Siouxland Chamber will welcome new member Sioux City Public Schools Foundation with a ribbon cutting ceremony.  The Foundation provides funding for creative and SCSF programs and projects that benefit our students.
X-ALT-DESC;FMTTYPE=text/html:The Siouxland Chamber will welcome new member Sioux City Public Schools Foundation with a ribbon cutting ceremony. &nbsp\;T<span style="line-height: 25px\; text-align: justify\;">he Foundation provides funding for creative and SCSF programs and projects that benefit our students.</span>
LOCATION:SCCS Career Academy Center Ho-Chunk Centre\, 2nd Floor Sioux City
UID:e.769.3297
SEQUENCE:3
DTSTAMP:20260421T160254Z
URL:https://directory.siouxlandchamber.com/events/details/ribbon-cutting-sioux-city-public-schools-foundation-07-26-2016-3297
END:VEVENT

END:VCALENDAR
