BEGIN:VCALENDAR
VERSION:2.0
PRODID:-//ChamberMaster//Event Calendar 2.0//EN
METHOD:PUBLISH
X-PUBLISHED-TTL:P3D
REFRESH-INTERVAL:P3D
CALSCALE:GREGORIAN
BEGIN:VEVENT
DTSTART:20220920T210000Z
DTEND:20220920T213000Z
X-MICROSOFT-CDO-ALLDAYEVENT:FALSE
SUMMARY:Ribbon Cutting - Sioux City International Film Festival
DESCRIPTION:Join us in welcoming the Sioux City International Film Festival to the Siouxland Chamber! \n\n\n\nThe Sioux City International Film Festival is an event under the umbrella of the Siouxland Institute of Film which has been running consecutively for 16 years and has recently obtained non-profit status. They are looking forward to hosting their 17th festival at the end of September at the Promenade Cinema 14.
X-ALT-DESC;FMTTYPE=text/html:Join us in welcoming the Sioux City International Film Festival to the Siouxland Chamber!&nbsp\;<br />\n<br />\nThe Sioux City International Film Festival is an&nbsp\;event under the umbrella of the Siouxland Institute of Film which has been running consecutively&nbsp\;for 16 years and has recently obtained non-profit status. They are looking forward to hosting their 17th festival at the end of September at the Promenade Cinema 14.&nbsp\;
LOCATION:Promenade Cinema 14 (Out front) 924 4th Street Sioux City\, IA 51101
UID:e.769.5836
SEQUENCE:3
DTSTAMP:20260420T003924Z
URL:https://directory.siouxlandchamber.com/events/details/ribbon-cutting-sioux-city-international-film-festival-5836
END:VEVENT

END:VCALENDAR
