BEGIN:VCALENDAR
VERSION:2.0
PRODID:-//ChamberMaster//Event Calendar 2.0//EN
METHOD:PUBLISH
X-PUBLISHED-TTL:P3D
REFRESH-INTERVAL:P3D
CALSCALE:GREGORIAN
BEGIN:VEVENT
DTSTART:20220505T213000Z
DTEND:20220505T220000Z
X-MICROSOFT-CDO-ALLDAYEVENT:FALSE
SUMMARY:Ribbon Cutting - Sioux City Fence
DESCRIPTION:Join us in celebrating Sioux City Fence's new location!\n\n\n\nSioux City Fence Company started in North Sioux City\, South Dakota in 2013. They are a family owned and operated. The new location allows clients to see the products they have to offer before they purchase.
X-ALT-DESC;FMTTYPE=text/html:Join us in celebrating Sioux City Fence&#39\;s new location!<br />\n<br />\nSioux City Fence Company started in North Sioux City\, South Dakota in 2013. They are a family owned and operated. The new location allows clients to see the products they have to offer before they purchase.&nbsp\;
LOCATION:309 W 26th Street Sioux City\, IA 51104
UID:e.769.5773
SEQUENCE:3
DTSTAMP:20260420T054133Z
URL:https://directory.siouxlandchamber.com/events/details/ribbon-cutting-sioux-city-fence-5773
END:VEVENT

END:VCALENDAR
