BEGIN:VCALENDAR
VERSION:2.0
PRODID:-//ChamberMaster//Event Calendar 2.0//EN
METHOD:PUBLISH
X-PUBLISHED-TTL:P3D
REFRESH-INTERVAL:P3D
CALSCALE:GREGORIAN
BEGIN:VEVENT
DTSTART:20170518T234500Z
DTEND:20170519T000000Z
X-MICROSOFT-CDO-ALLDAYEVENT:FALSE
SUMMARY:Ribbon Cutting - Sioux City Explorers
DESCRIPTION:We will cut the ribbon to officially open the Sioux City Explorer's 25th Anniversary Season.  Let's make it a community event and bring out the fans\, fill the stands\, and ring in the cheers for our Explorers!\n\n\n\nChamber members who order their tickets HERE will be entered to win 9 prizes each valued at $200 or more when we play INNINGS OF WINNINGS!
X-ALT-DESC;FMTTYPE=text/html:We will cut the ribbon to officially open the Sioux City Explorer&#39\;s&nbsp\;25th Anniversary Season. &nbsp\;Let&#39\;s make it a community event and bring out the fans\, fill the stands\, and ring in the cheers for our Explorers!<br />\n<br />\nChamber members who order their tickets <span style="font-size:20px\;"><strong><a href="http://bit.ly/Siouxland_Chamber_Night">HERE</a></strong></span> will be entered to win 9 prizes each valued at $200 or more when we play<span style="font-size:20px\;"><span style="color:#FFA500\;"><strong> INNINGS OF WINNINGS!</strong></span></span>
LOCATION:Mercy Field at Lewis & Clark Park 3400 Line Drive
UID:e.769.3492
SEQUENCE:3
DTSTAMP:20260419T212600Z
URL:https://directory.siouxlandchamber.com/events/details/ribbon-cutting-sioux-city-explorers-3492
END:VEVENT

END:VCALENDAR
