BEGIN:VCALENDAR
VERSION:2.0
PRODID:-//ChamberMaster//Event Calendar 2.0//EN
METHOD:PUBLISH
X-PUBLISHED-TTL:P3D
REFRESH-INTERVAL:P3D
CALSCALE:GREGORIAN
BEGIN:VEVENT
DTSTART:20191122T173000Z
DTEND:20191122T180000Z
X-MICROSOFT-CDO-ALLDAYEVENT:FALSE
SUMMARY:Ribbon Cutting - Sioux City Convention Center
DESCRIPTION:Please join us in celebrating the renovated Ballroom (Gallery C) at the Sioux City Convention Center with a Ribbon Cutting. Beverages and delicious hors d'oeuvres will be featured as well.
X-ALT-DESC;FMTTYPE=text/html:Please join us in celebrating the renovated Ballroom (Gallery C) at the Sioux City Convention Center with a Ribbon Cutting. Beverages and delicious hors d&#39\;oeuvres will be featured as well.&nbsp\;
LOCATION:801 4th Street Sioux City\, IA 51101
UID:e.769.5224
SEQUENCE:3
DTSTAMP:20260421T181629Z
URL:https://directory.siouxlandchamber.com/events/details/ribbon-cutting-sioux-city-convention-center-5224
END:VEVENT

END:VCALENDAR
