BEGIN:VCALENDAR
VERSION:2.0
PRODID:-//ChamberMaster//Event Calendar 2.0//EN
METHOD:PUBLISH
X-PUBLISHED-TTL:P3D
REFRESH-INTERVAL:P3D
CALSCALE:GREGORIAN
BEGIN:VEVENT
DTSTART:20160504T210000Z
DTEND:20160504T213000Z
X-MICROSOFT-CDO-ALLDAYEVENT:FALSE
SUMMARY:Ribbon Cutting - Shirley Chic
DESCRIPTION:Catelin Drey is celebrating the launching of her new photography business\, Shirley Chic Photography\, with a Ribbon Cutting Ceremony to be held at the Siouxland Chamber.  Please join us in welcoming her to the Chamber and congratulating her on her new business.
X-ALT-DESC;FMTTYPE=text/html:Catelin Drey is celebrating the launching of her new photography business\, Shirley Chic Photography\, with a Ribbon Cutting Ceremony to be held at the Siouxland Chamber. &nbsp\;Please join us in welcoming her to the Chamber and congratulating her on her new business.
LOCATION:Siouxland Chamber of Commerce 101 Pierce Street\, Sioux City
UID:e.769.3255
SEQUENCE:3
DTSTAMP:20260421T184617Z
URL:https://directory.siouxlandchamber.com/events/details/ribbon-cutting-shirley-chic-05-04-2016-3255
END:VEVENT

END:VCALENDAR
