BEGIN:VCALENDAR
VERSION:2.0
PRODID:-//ChamberMaster//Event Calendar 2.0//EN
METHOD:PUBLISH
X-PUBLISHED-TTL:P3D
REFRESH-INTERVAL:P3D
CALSCALE:GREGORIAN
BEGIN:VEVENT
DTSTART:20180511T210000Z
DTEND:20180511T213000Z
X-MICROSOFT-CDO-ALLDAYEVENT:FALSE
SUMMARY:Ribbon Cutting - Servpro of Sooland
DESCRIPTION:Servpro of Sooland is having a Ribbon Cutting with the Siouxland and South Sioux City Chamber.  An Open House will follow until 6:00 PM.  Servpro is your residential and commercial restoration service with 24 hour emergency service and they are able to respond immediately to your emergency.
X-ALT-DESC;FMTTYPE=text/html:Servpro of Sooland is having a Ribbon Cutting with the Siouxland and South Sioux City Chamber.&nbsp\; An Open House will follow until 6:00 PM.&nbsp\; Servpro is your residential and commercial restoration service with 24 hour emergency service and they are able to respond immediately to your emergency.
LOCATION:3220 Line Drive Sioux City\, IA
UID:e.769.4681
SEQUENCE:3
DTSTAMP:20260420T163700Z
URL:https://directory.siouxlandchamber.com/events/details/ribbon-cutting-servpro-of-sooland-4681
END:VEVENT

END:VCALENDAR
