BEGIN:VCALENDAR
VERSION:2.0
PRODID:-//ChamberMaster//Event Calendar 2.0//EN
METHOD:PUBLISH
X-PUBLISHED-TTL:P3D
REFRESH-INTERVAL:P3D
CALSCALE:GREGORIAN
BEGIN:VEVENT
DTSTART:20160428T213000Z
DTEND:20160428T233000Z
X-MICROSOFT-CDO-ALLDAYEVENT:FALSE
SUMMARY:Ribbon Cutting - Sergeant Bluff Smiles
DESCRIPTION:New Chamber member\, Sergeant Bluff Smiles\, is celebrating their grand opening with a ribbon cutting ceremony followed by an open house.  Please join us in welcoming them to the Siouxland Chamber!
X-ALT-DESC;FMTTYPE=text/html:New Chamber member\, Sergeant Bluff Smiles\, is celebrating their grand opening with a ribbon cutting ceremony followed by an open house. &nbsp\;Please join us in welcoming them to the Siouxland Chamber!
LOCATION:104 Port Neal Road Sergeant Bluff
UID:e.769.3217
SEQUENCE:3
DTSTAMP:20260421T201019Z
URL:https://directory.siouxlandchamber.com/events/details/ribbon-cutting-sergeant-bluff-smiles-04-28-2016-3217
END:VEVENT

END:VCALENDAR
