BEGIN:VCALENDAR
VERSION:2.0
PRODID:-//ChamberMaster//Event Calendar 2.0//EN
METHOD:PUBLISH
X-PUBLISHED-TTL:P3D
REFRESH-INTERVAL:P3D
CALSCALE:GREGORIAN
BEGIN:VEVENT
DTSTART:20170921T190000Z
DTEND:20170921T193000Z
X-MICROSOFT-CDO-ALLDAYEVENT:FALSE
SUMMARY:Ribbon Cutting - Senior Lifestyle Advantage Magazine
DESCRIPTION:We will celebrate Senior Lifestyle Advantage's new membership and one year anniversary with a ribbon cutting ceremony hosted at the Siouxland Chamber.  Each issue of Senior Lifestyle Advantage provides tips\, expert insight\, recipes\, travel\, health & wellness for those 50 + to live the second half of life with excitement and fulfillment.  Refreshments will be served.
X-ALT-DESC;FMTTYPE=text/html:We will celebrate Senior Lifestyle Advantage&#39\;s new membership and one year anniversary with a ribbon cutting ceremony hosted at the Siouxland Chamber. &nbsp\;Each issue of Senior Lifestyle Advantage provides tips\, expert insight\, recipes\, travel\, health &amp\; wellness for those 50 + to live the second half of life with excitement and fulfillment. &nbsp\;Refreshments will be served.
LOCATION:Siouxland Chamber 101 Pierce Street\, Sioux City
UID:e.769.3524
SEQUENCE:3
DTSTAMP:20260420T033423Z
URL:https://directory.siouxlandchamber.com/events/details/ribbon-cutting-senior-lifestyle-advantage-magazine-3524
END:VEVENT

END:VCALENDAR
