BEGIN:VCALENDAR
VERSION:2.0
PRODID:-//ChamberMaster//Event Calendar 2.0//EN
METHOD:PUBLISH
X-PUBLISHED-TTL:P3D
REFRESH-INTERVAL:P3D
CALSCALE:GREGORIAN
BEGIN:VEVENT
DTSTART:20200227T223000Z
DTEND:20200227T230000Z
X-MICROSOFT-CDO-ALLDAYEVENT:FALSE
SUMMARY:Ribbon Cutting - Security National Bank - Dakota Dunes
DESCRIPTION:Please join us for a Ribbon Cutting celebrating the completed renovation of Siouxland Chamber of Commerce member\, Security National Bank - Dakota Dunes.
X-ALT-DESC;FMTTYPE=text/html:Please join us for a Ribbon Cutting celebrating the completed renovation of Siouxland Chamber of Commerce member\, Security National Bank - Dakota Dunes.
LOCATION:325 Dakota Dunes Blvd. Dakota Dunes\, SD 57049
UID:e.769.5327
SEQUENCE:3
DTSTAMP:20260421T213555Z
URL:https://directory.siouxlandchamber.com/events/details/ribbon-cutting-security-national-bank-dakota-dunes-5327
END:VEVENT

END:VCALENDAR
