BEGIN:VCALENDAR
VERSION:2.0
PRODID:-//ChamberMaster//Event Calendar 2.0//EN
METHOD:PUBLISH
X-PUBLISHED-TTL:P3D
REFRESH-INTERVAL:P3D
CALSCALE:GREGORIAN
BEGIN:VEVENT
DTSTART:20160812T150000Z
DTEND:20160812T153000Z
X-MICROSOFT-CDO-ALLDAYEVENT:FALSE
SUMMARY:Ribbon Cutting - Scooters on Floyd Blvd
DESCRIPTION:Scooters Coffee will celebrate the Grand Opening of their newest SIoux City location on Floyd Boulevard with a Chamber ribbon cutting.  Please join us in congratulating owners Kim and Ali Dreher and David Samsula and enjoy $1 medium drinks as well as giveaways.  A week of specials will follow starting Aug 15th.
X-ALT-DESC;FMTTYPE=text/html:Scooters Coffee will celebrate the Grand Opening of their newest SIoux City location on Floyd Boulevard with a Chamber ribbon cutting. &nbsp\;Please join us in congratulating owners Kim and Ali Dreher and David Samsula and enjoy $1 medium drinks as well as giveaways. &nbsp\;A week of specials will follow starting Aug 15th.&nbsp\;
LOCATION:3136 Floyd Boulevard Sioux City
UID:e.769.3304
SEQUENCE:3
DTSTAMP:20260421T143427Z
URL:https://directory.siouxlandchamber.com/events/details/ribbon-cutting-scooters-on-floyd-blvd-08-12-2016-3304
END:VEVENT

END:VCALENDAR
