BEGIN:VCALENDAR
VERSION:2.0
PRODID:-//ChamberMaster//Event Calendar 2.0//EN
METHOD:PUBLISH
X-PUBLISHED-TTL:P3D
REFRESH-INTERVAL:P3D
CALSCALE:GREGORIAN
BEGIN:VEVENT
DTSTART:20170707T150000Z
DTEND:20170707T153000Z
X-MICROSOFT-CDO-ALLDAYEVENT:FALSE
SUMMARY:Ribbon Cutting - Scooters\, Gordon Drive
DESCRIPTION:New member\, Scooters\, on Gordon Drive is under new management and they will celebrate with a ribbon cutting.  They will have giveaways for the ribbon cutting and will have $1 off drinks the entire day.  Please join us and congratulate them on their growth and investment in Siouxland!
X-ALT-DESC;FMTTYPE=text/html:New member\, Scooters\, on Gordon Drive is under new management and they will celebrate with a ribbon cutting. &nbsp\;They will have giveaways for the ribbon cutting and will have $1 off drinks the entire day. &nbsp\;Please join us and congratulate them on their growth and investment in Siouxland!
LOCATION:675 Gordon Drive Sioux City
UID:e.769.3523
SEQUENCE:3
DTSTAMP:20260420T003207Z
URL:https://directory.siouxlandchamber.com/events/details/ribbon-cutting-scooters-gordon-drive-3523
END:VEVENT

END:VCALENDAR
