BEGIN:VCALENDAR
VERSION:2.0
PRODID:-//ChamberMaster//Event Calendar 2.0//EN
METHOD:PUBLISH
X-PUBLISHED-TTL:P3D
REFRESH-INTERVAL:P3D
CALSCALE:GREGORIAN
BEGIN:VEVENT
DTSTART:20200117T163000Z
DTEND:20200117T170000Z
X-MICROSOFT-CDO-ALLDAYEVENT:FALSE
SUMMARY:Ribbon Cutting - Scooters Coffee House - Morningside
DESCRIPTION:Please join us for a Ribbon Cutting welcoming new Siouxland Chamber of Commerce member\, Scooters Coffee House - Morningside. They will be featuring an App Special - any customers who pay or scan for loyalty with their Scooters Coffee mobile app will earn 50 bonus smiles!
X-ALT-DESC;FMTTYPE=text/html:Please join us for a Ribbon Cutting welcoming new Siouxland Chamber of Commerce member\, Scooters Coffee House - Morningside. They will be featuring an App Special - any customers who pay or scan for loyalty with their Scooters Coffee mobile app will earn 50 bonus smiles!
LOCATION:4307 Gordon Drive Sioux City\, IA 51106
UID:e.769.5322
SEQUENCE:3
DTSTAMP:20260421T211426Z
URL:https://directory.siouxlandchamber.com/events/details/ribbon-cutting-scooters-coffee-house-morningside-5322
END:VEVENT

END:VCALENDAR
