BEGIN:VCALENDAR
VERSION:2.0
PRODID:-//ChamberMaster//Event Calendar 2.0//EN
METHOD:PUBLISH
X-PUBLISHED-TTL:P3D
REFRESH-INTERVAL:P3D
CALSCALE:GREGORIAN
BEGIN:VEVENT
DTSTART:20160907T150000Z
DTEND:20160907T153000Z
X-MICROSOFT-CDO-ALLDAYEVENT:FALSE
SUMMARY:Ribbon Cutting - SCCS Perry Creek Elementary School
DESCRIPTION:Perry Creek Elementary will celebrate their grand opening with a ribbon cutting ceremony.  The new school welcomes 1st through 5th graders who are the former students of Clark\, Crescent Park and Lincoln Elementary Schools and has a unique opportunity to be a feeder elementary school for both the North and West middle and high schools.  Please join the celebration of Sioux City Community Schools' growth and improvements!
X-ALT-DESC;FMTTYPE=text/html:Perry Creek Elementary will celebrate their grand opening with a ribbon cutting ceremony. &nbsp\;The new school welcomes 1st through 5th graders who are the former students of Clark\, Crescent Park and Lincoln Elementary Schools and has a unique opportunity to be a feeder elementary school for both the North and West middle and high schools. &nbsp\;Please join the celebration of Sioux City Community Schools&#39\; growth and improvements!
LOCATION:3601 Country Club Boulevard Sioux City
UID:e.769.3332
SEQUENCE:3
DTSTAMP:20260421T130332Z
URL:https://directory.siouxlandchamber.com/events/details/ribbon-cutting-sccs-perry-creek-elementary-school-3332
END:VEVENT

END:VCALENDAR
