BEGIN:VCALENDAR
VERSION:2.0
PRODID:-//ChamberMaster//Event Calendar 2.0//EN
METHOD:PUBLISH
X-PUBLISHED-TTL:P3D
REFRESH-INTERVAL:P3D
CALSCALE:GREGORIAN
BEGIN:VEVENT
DTSTART:20160623T193000Z
DTEND:20160623T200000Z
X-MICROSOFT-CDO-ALLDAYEVENT:FALSE
SUMMARY:Ribbon Cutting - SC Conservatory of Music Gathering Place
DESCRIPTION:Please come and help celebrate the opening of the Sioux City Conservatory of Music Gathering Place.  A ribbon cutting ceremony will mark the completion of the 1st phase of expansion at 1307 Pierce Street made possible through contributions from Friends of Mercy Medical Center.  \n\n\n\nThe purpose of this space is to provide community space for well-being\; art openings\, recovery meetings\, fellowship study\, book clubs\, and business and educational meeting space.  The space is available for private party use with catering options through the neighboring Blue Cafe\, also part of the Conservatory.
X-ALT-DESC;FMTTYPE=text/html:Please come and help celebrate the opening of the&nbsp\;Sioux City Conservatory of Music Gathering Place. &nbsp\;A&nbsp\;ribbon cutting ceremony will mark the&nbsp\;completion of the 1st phase of expansion at 1307 Pierce Street made possible through contributions from Friends of Mercy Medical Center. &nbsp\;<br />\n<br />\nThe purpose of this space is to provide community space for well-being\; art openings\, recovery meetings\, fellowship study\, book clubs\, and business and educational meeting space. &nbsp\;The space is available for private party use with catering options through the neighboring Blue Cafe\, also part of the Conservatory.<br />\n&nbsp\;
LOCATION:1307 Pierce Street Sioux City
UID:e.769.3289
SEQUENCE:3
DTSTAMP:20260421T174909Z
URL:https://directory.siouxlandchamber.com/events/details/ribbon-cutting-sc-conservatory-of-music-gathering-place-06-23-2016-3289
END:VEVENT

END:VCALENDAR
