BEGIN:VCALENDAR
VERSION:2.0
PRODID:-//ChamberMaster//Event Calendar 2.0//EN
METHOD:PUBLISH
X-PUBLISHED-TTL:P3D
REFRESH-INTERVAL:P3D
CALSCALE:GREGORIAN
BEGIN:VEVENT
DTSTART:20180406T180000Z
DTEND:20180406T183000Z
X-MICROSOFT-CDO-ALLDAYEVENT:FALSE
SUMMARY:Ribbon Cutting - Sandler Sales Training
DESCRIPTION:We will welcome new member\, Sandler Sales Training\, with a ribbon cutting being held at the Chamber.  Prior to the 1:00 PM ribbon cutting plan to attend the 11:30 AM Small Business Education Series being presented by Sandler Sales Training.  Click HERE for more information on the training.  Sandler is your trusted partner to address your sales\, management\, and leadership challenges and their mission is your success.
X-ALT-DESC;FMTTYPE=text/html:We will welcome new member\, Sandler Sales Training\, with a ribbon cutting being held at the Chamber.&nbsp\; Prior to the 1:00 PM ribbon cutting plan to attend&nbsp\;the 11:30 AM Small Business Education Series being presented by Sandler Sales Training.&nbsp\; <span style="color: rgb(51\, 51\, 51)\; font-family: sans-serif\, Arial\, Verdana\, &quot\;Trebuchet MS&quot\;\; font-size: 13px\; background-color: rgb(255\, 255\, 255)\;">Click <a href="https://chambermaster.blob.core.windows.net/userfiles/UserFiles/chambers/769/File/SANDLERSMBUSEDFLIER.pdf"><strong>HERE</strong></a> for more information on the training.&nbsp\;&nbsp\;</span>Sandler is your trusted partner to address your sales\, management\, and leadership challenges and their mission is your success.&nbsp\;&nbsp\;
LOCATION:Siouxland Chamber 101 Pierce Street Sioux City
UID:e.769.4661
SEQUENCE:3
DTSTAMP:20260420T145832Z
URL:https://directory.siouxlandchamber.com/events/details/ribbon-cutting-sandler-sales-training-4661
END:VEVENT

END:VCALENDAR
