BEGIN:VCALENDAR
VERSION:2.0
PRODID:-//ChamberMaster//Event Calendar 2.0//EN
METHOD:PUBLISH
X-PUBLISHED-TTL:P3D
REFRESH-INTERVAL:P3D
CALSCALE:GREGORIAN
BEGIN:VEVENT
DTSTART:20221201T223000Z
DTEND:20221201T230000Z
X-MICROSOFT-CDO-ALLDAYEVENT:FALSE
SUMMARY:Ribbon Cutting - Salem Real Estate
DESCRIPTION:Join us in celebrating Dick Salem Broker/Owner of Salem Real Estate as he has expanded the firm into a full-service Real Estate company. \n\n\n\nAfter concentrating on commercial brokerage for many years\, the company has recently added residential and property management services. In addition to Salem\, Amy Kakacek is Vice-President & Residential Manager. Sarah Espiritu\, Broker Associate\; David Struve and Namon Jones are Associate Sales Persons. \n\n\n\nYou can park in the parking lot to the north\, parking lot across the street\, or on the street (free parking after 5PM).
X-ALT-DESC;FMTTYPE=text/html:Join us in celebrating Dick Salem Broker/Owner of Salem Real Estate as he has expanded the firm into a full-service Real Estate company.&nbsp\;<br />\n<br />\nAfter concentrating on commercial brokerage for many years\, the company has recently added residential and property management services.&nbsp\;In addition to Salem\, Amy Kakacek is Vice-President &amp\; Residential Manager.&nbsp\;Sarah Espiritu\, Broker Associate\; David Struve and Namon Jones are Associate Sales Persons.&nbsp\;<br />\n<br />\nYou can park in the parking lot to the north\, parking lot across the street\, or on the street (free parking after 5PM).&nbsp\;
LOCATION:Pioneer Bank Bldg. 701 Pierce Street\, Ste 100 Sioux City\, IA 51101
UID:e.769.5900
SEQUENCE:3
DTSTAMP:20260419T182734Z
URL:https://directory.siouxlandchamber.com/events/details/ribbon-cutting-salem-real-estate-5900
END:VEVENT

END:VCALENDAR
