BEGIN:VCALENDAR
VERSION:2.0
PRODID:-//ChamberMaster//Event Calendar 2.0//EN
METHOD:PUBLISH
X-PUBLISHED-TTL:P3D
REFRESH-INTERVAL:P3D
CALSCALE:GREGORIAN
BEGIN:VEVENT
DTSTART:20170901T140000Z
DTEND:20170901T143000Z
X-MICROSOFT-CDO-ALLDAYEVENT:FALSE
SUMMARY:Ribbon Cutting - Salem Real Estate
DESCRIPTION:The Siouxland Chamber is pleased to celebrate Dick Salem's new venture\, Salem Real Estate\, at a joint ribbon cutting with the South Sioux City Chamber of Commerce.  Following the Ribbon Cutting\, Salem Real Estate will host the South Sioux City Chamber Coffee until 10:30 AM.\n\n\n\nSalem Real Estate provides commercial real estate and property services including sales\, leasing\, property management\, real estate investment\, commercial property market analysis\, and infrastructure information.
X-ALT-DESC;FMTTYPE=text/html:The Siouxland Chamber is pleased to celebrate Dick Salem&#39\;s new venture\, Salem Real Estate\, at a joint ribbon cutting with the South Sioux City Chamber of Commerce. &nbsp\;Following the Ribbon Cutting\, Salem Real Estate will host the South Sioux City Chamber Coffee until 10:30 AM.<br />\n<br />\nSalem Real Estate provides commercial real estate and property services including sales\, leasing\, property management\, real estate investment\, commercial property market analysis\, and infrastructure information.
LOCATION:700 Pierce Street\, Sioux City
UID:e.769.3550
SEQUENCE:3
DTSTAMP:20260420T044511Z
URL:https://directory.siouxlandchamber.com/events/details/ribbon-cutting-salem-real-estate-3550
END:VEVENT

END:VCALENDAR
