BEGIN:VCALENDAR
VERSION:2.0
PRODID:-//ChamberMaster//Event Calendar 2.0//EN
METHOD:PUBLISH
X-PUBLISHED-TTL:P3D
REFRESH-INTERVAL:P3D
CALSCALE:GREGORIAN
BEGIN:VEVENT
DTSTART:20170920T213000Z
DTEND:20170920T220000Z
X-MICROSOFT-CDO-ALLDAYEVENT:FALSE
SUMMARY:Ribbon Cutting - Sabrina Cooley\, Licensed Massage Therapist
DESCRIPTION:We will give the Green Coat Chamber welcome to Sabrina Cooley\, Licensed Massage Therapist at her upcoming ribbon cutting ceremony where Sabrina will give you a first hand feel of some of the massage therapies she offers.  Sabrina is well versed in Swedish Massage\, cupping therapy\, deep tissue\, myofascial release\, trigger point therapy\, prenatal massage\, and hot stone therapy.  She hopes to provide a unique experience for each client by discussing expectations prior to each massage and can personalize sessions with aromatherapy and music selection.
X-ALT-DESC;FMTTYPE=text/html:We will give the Green Coat Chamber welcome to Sabrina Cooley\, Licensed Massage Therapist at her upcoming ribbon cutting ceremony where Sabrina will give you a first hand feel of some of the massage therapies she offers. &nbsp\;Sabrina is well versed in Swedish Massage\, cupping therapy\, deep tissue\, myofascial release\, trigger point therapy\, prenatal massage\, and hot stone therapy. &nbsp\;She hopes to provide a unique experience for each client by discussing expectations prior to each massage and can personalize sessions with aromatherapy and music selection.
LOCATION:4700 Gordon Drive\, Suite 103
UID:e.769.3561
SEQUENCE:3
DTSTAMP:20260420T044510Z
URL:https://directory.siouxlandchamber.com/events/details/ribbon-cutting-sabrina-cooley-licensed-massage-therapist-3561
END:VEVENT

END:VCALENDAR
