BEGIN:VCALENDAR
VERSION:2.0
PRODID:-//ChamberMaster//Event Calendar 2.0//EN
METHOD:PUBLISH
X-PUBLISHED-TTL:P3D
REFRESH-INTERVAL:P3D
CALSCALE:GREGORIAN
BEGIN:VEVENT
DTSTART:20230223T223000Z
DTEND:20230223T230000Z
X-MICROSOFT-CDO-ALLDAYEVENT:FALSE
SUMMARY:Ribbon Cutting - Rotary Club of Sioux City
DESCRIPTION:Join us as we welcome the Rotary Club of Sioux City as a new Chamber member and celebrate their 110th Anniversary.
X-ALT-DESC;FMTTYPE=text/html:Join us as we welcome the Rotary Club of Sioux City as a new Chamber member and celebrate their 110th Anniversary.&nbsp\;
LOCATION:SoHo Kitchen & Bar 1024 Historic Fourth Street Sioux City\, IA 51101
UID:e.769.5931
SEQUENCE:3
DTSTAMP:20260419T152434Z
URL:https://directory.siouxlandchamber.com/events/details/ribbon-cutting-rotary-club-of-sioux-city-5931
END:VEVENT

END:VCALENDAR
