BEGIN:VCALENDAR
VERSION:2.0
PRODID:-//ChamberMaster//Event Calendar 2.0//EN
METHOD:PUBLISH
X-PUBLISHED-TTL:P3D
REFRESH-INTERVAL:P3D
CALSCALE:GREGORIAN
BEGIN:VEVENT
DTSTART:20180507T210000Z
DTEND:20180507T213000Z
X-MICROSOFT-CDO-ALLDAYEVENT:FALSE
SUMMARY:Ribbon Cutting - Ronald McDonald House Charities of Siouxland
DESCRIPTION:The Ronald McDonald House Charities of Siouxland is proud to unveil their new family suite made possible through a donation from the Junior League of Sioux City.  Following the Ribbon Cutting tours will be given and light refreshments served.  Please join us in congratulating them on their new improvements.
X-ALT-DESC;FMTTYPE=text/html:The Ronald McDonald House Charities of Siouxland is proud to unveil their new family suite made possible through a donation from the Junior League of Sioux City.&nbsp\; Following the Ribbon Cutting tours will be given and light refreshments served.&nbsp\; Please join us in congratulating them on their new improvements.&nbsp\;&nbsp\;&nbsp\;
LOCATION:2500 Nebraska Street Sioux City
UID:e.769.4703
SEQUENCE:3
DTSTAMP:20260420T150333Z
URL:https://directory.siouxlandchamber.com/events/details/ribbon-cutting-ronald-mcdonald-house-charities-of-siouxland-4703
END:VEVENT

END:VCALENDAR
