BEGIN:VCALENDAR
VERSION:2.0
PRODID:-//ChamberMaster//Event Calendar 2.0//EN
METHOD:PUBLISH
X-PUBLISHED-TTL:P3D
REFRESH-INTERVAL:P3D
CALSCALE:GREGORIAN
BEGIN:VEVENT
DTSTART:20200827T150000Z
DTEND:20200827T153000Z
X-MICROSOFT-CDO-ALLDAYEVENT:FALSE
SUMMARY:Ribbon Cutting - Riverside Park Pickleball Courts
DESCRIPTION:Join us in celebrating with Sioux City Parks and Recreation as they host a ribbon cutting/opening event for the Riverside Park Pickleball Courts.\n\n\n\nParking is available in the Riverside Family Aquatic Center parking lot.
X-ALT-DESC;FMTTYPE=text/html:Join us in celebrating with Sioux City Parks and Recreation as they host a ribbon cutting/opening event for the Riverside Park Pickleball Courts.<br />\n<br />\nParking is available in the Riverside Family Aquatic Center parking lot.&nbsp\;
LOCATION:1301 Riverside Blvd Sioux City\, IA
UID:e.769.5395
SEQUENCE:3
DTSTAMP:20260421T122157Z
URL:https://directory.siouxlandchamber.com/events/details/ribbon-cutting-riverside-park-pickleball-courts-5395
END:VEVENT

END:VCALENDAR
