BEGIN:VCALENDAR
VERSION:2.0
PRODID:-//ChamberMaster//Event Calendar 2.0//EN
METHOD:PUBLISH
X-PUBLISHED-TTL:P3D
REFRESH-INTERVAL:P3D
CALSCALE:GREGORIAN
BEGIN:VEVENT
DTSTART:20170522T200000Z
DTEND:20170522T203000Z
X-MICROSOFT-CDO-ALLDAYEVENT:FALSE
SUMMARY:Ribbon Cutting - Red's All Natural
DESCRIPTION:We will welcome new member\, Red's All Natural\, to the Siouxland Chamber with a ribbon cutting ceremony.  The Red's All Natural production facility located in North Sioux City\, will make a variety of frozen products\, including burritos\, bowls\, enchiladas\, and taquitos that are found in large retail chains across the nation.  Please join us in welcoming Red's to Siouxland and to the Chamber.
X-ALT-DESC;FMTTYPE=text/html:We will welcome new member\, Red&#39\;s All Natural\, to the Siouxland Chamber with a ribbon cutting ceremony. &nbsp\;The Red&#39\;s All Natural production facility located in North Sioux City\, will make a variety of frozen products\, including burritos\, bowls\, enchiladas\, and taquitos&nbsp\;that are found in large retail chains across the nation. &nbsp\;Please join us in welcoming Red&#39\;s to Siouxland and to the Chamber.
LOCATION:803 N Derby Lane North Sioux City\, SD
UID:e.769.3477
SEQUENCE:3
DTSTAMP:20260419T212825Z
URL:https://directory.siouxlandchamber.com/events/details/ribbon-cutting-red-s-all-natural-3477
END:VEVENT

END:VCALENDAR
