BEGIN:VCALENDAR
VERSION:2.0
PRODID:-//ChamberMaster//Event Calendar 2.0//EN
METHOD:PUBLISH
X-PUBLISHED-TTL:P3D
REFRESH-INTERVAL:P3D
CALSCALE:GREGORIAN
BEGIN:VEVENT
DTSTART:20180124T213000Z
DTEND:20180124T220000Z
X-MICROSOFT-CDO-ALLDAYEVENT:FALSE
SUMMARY:Ribbon Cutting - Recover Health
DESCRIPTION:Recover Health has a new location and will celebrate with a Chamber ribbon cutting.  An Open House until 5:00 PM will follow.  Please join us in congratulating them on their move.\n\n\n\nRecover Health staff provides a full range of home health care services with the utmost compassion\, maintaining each client's dignity with exceptional service and extraordinary care.  Recover Health is a Medicare-certified home health agency offering the following services:  skilled nursintg services\, pediatric nursing services\, complex skilled hourly nursing\, physical therapy\, occupational therapy\, speech therapy\, pharmacist services\, home health aide services and independent living services.
X-ALT-DESC;FMTTYPE=text/html:Recover Health has a new location and will celebrate with a Chamber ribbon cutting.&nbsp\; An Open House until 5:00 PM will follow.&nbsp\; Please join us in congratulating them on their move.<br />\n<br />\nRecover Health staff provides a full range of home health care services with the utmost compassion\, maintaining each client&#39\;s dignity with exceptional service and extraordinary care.&nbsp\; Recover Health is a Medicare-certified home health agency offering the following services:&nbsp\; skilled nursintg services\, pediatric nursing services\, complex skilled hourly nursing\, physical therapy\, occupational therapy\, speech therapy\, pharmacist services\, home health aide services and independent living services.&nbsp\;&nbsp\;
LOCATION:2020 Indian Hills Drive\, Suite 100 Sioux City
UID:e.769.4629
SEQUENCE:3
DTSTAMP:20260420T093105Z
URL:https://directory.siouxlandchamber.com/events/details/ribbon-cutting-recover-health-4629
END:VEVENT

END:VCALENDAR
