BEGIN:VCALENDAR
VERSION:2.0
PRODID:-//ChamberMaster//Event Calendar 2.0//EN
METHOD:PUBLISH
X-PUBLISHED-TTL:P3D
REFRESH-INTERVAL:P3D
CALSCALE:GREGORIAN
BEGIN:VEVENT
DTSTART:20200807T180000Z
DTEND:20200807T183000Z
X-MICROSOFT-CDO-ALLDAYEVENT:FALSE
SUMMARY:Ribbon Cutting - Rebah Leigh's Boutique
DESCRIPTION:Please join us for a Ribbon Cutting celebrating new Siouxland Chamber of Commerce member\, Rebah Leigh's Boutique. Face masks will be required in the boutique.
X-ALT-DESC;FMTTYPE=text/html:Please join us for a Ribbon Cutting celebrating new Siouxland Chamber of Commerce member\, Rebah Leigh&#39\;s Boutique. Face masks will be required in the boutique.
LOCATION:3910 Transit Avenue Sioux City\, IA 51106
UID:e.769.5388
SEQUENCE:3
DTSTAMP:20260421T122228Z
URL:https://directory.siouxlandchamber.com/events/details/ribbon-cutting-rebah-leigh-s-boutique-5388
END:VEVENT

END:VCALENDAR
