BEGIN:VCALENDAR
VERSION:2.0
PRODID:-//ChamberMaster//Event Calendar 2.0//EN
METHOD:PUBLISH
X-PUBLISHED-TTL:P3D
REFRESH-INTERVAL:P3D
CALSCALE:GREGORIAN
BEGIN:VEVENT
DTSTART:20170628T140000Z
DTEND:20170628T143000Z
X-MICROSOFT-CDO-ALLDAYEVENT:FALSE
SUMMARY:Ribbon Cutting - RBC Wealth Management
DESCRIPTION:RBC Wealth Management has opened a new office in Dakota Dunes and will hold a Chamber ribbon cutting to celebrate.  Please join us and congratulate them on their growth and improvements. For more than a century RBC Wealth Management has provided trusted advice and wealth management solutions to individuals\, families and institutions.
X-ALT-DESC;FMTTYPE=text/html:RBC Wealth Management has opened a new office in Dakota Dunes and will hold a Chamber ribbon cutting to celebrate. &nbsp\;Please join us and congratulate them on their growth and improvements. For more than a century RBC Wealth Management has provided trusted advice and wealth management solutions to individuals\, families and institutions.
LOCATION:200 Gold Circle\, #100 Dakota Dunes\, SD 57049
UID:e.769.3519
SEQUENCE:3
DTSTAMP:20260419T230428Z
URL:https://directory.siouxlandchamber.com/events/details/ribbon-cutting-rbc-wealth-management-3519
END:VEVENT

END:VCALENDAR
