BEGIN:VCALENDAR
VERSION:2.0
PRODID:-//ChamberMaster//Event Calendar 2.0//EN
METHOD:PUBLISH
X-PUBLISHED-TTL:P3D
REFRESH-INTERVAL:P3D
CALSCALE:GREGORIAN
BEGIN:VEVENT
DTSTART:20160923T200000Z
DTEND:20160923T210000Z
X-MICROSOFT-CDO-ALLDAYEVENT:FALSE
SUMMARY:Ribbon Cutting - Railroad Museum
DESCRIPTION:Please join us for the dedication of the Gilchrist Theater and the Yanney Family Sand Drying House Restoration Project at the Railroad Museum.\n\n\n\nThe formal dedication of the facility will occur at 3:30 p.m. with a ribbon cutting.
X-ALT-DESC;FMTTYPE=text/html:Please join us for the dedication of the Gilchrist Theater and the Yanney Family Sand Drying House Restoration Project at the Railroad Museum.<br />\n<br />\nThe formal dedication of the facility will occur at 3:30 p.m. with a ribbon cutting.
LOCATION:3400 Sioux River Road Sioux City
UID:e.769.3347
SEQUENCE:3
DTSTAMP:20260421T130250Z
URL:https://directory.siouxlandchamber.com/events/details/ribbon-cutting-railroad-museum-3347
END:VEVENT

END:VCALENDAR
