BEGIN:VCALENDAR
VERSION:2.0
PRODID:-//ChamberMaster//Event Calendar 2.0//EN
METHOD:PUBLISH
X-PUBLISHED-TTL:P3D
REFRESH-INTERVAL:P3D
CALSCALE:GREGORIAN
BEGIN:VEVENT
DTSTART:20180620T180000Z
DTEND:20180620T183000Z
X-MICROSOFT-CDO-ALLDAYEVENT:FALSE
SUMMARY:Ribbon Cutting - Profile by Sanford
DESCRIPTION:Profile by Sanford will celebrate their Chamber membership along with their 2 year anniversary and hope you can join them at their upcoming Ribbon Cutting and Open House.  Profile is a weight management program which utilizes coaching\, meal replacements\, and technology to help our members create a healthy lifestyle.
X-ALT-DESC;FMTTYPE=text/html:Profile by Sanford will celebrate their Chamber membership along with their 2 year anniversary and hope you can join them at their upcoming Ribbon Cutting and Open House.&nbsp\; Profile is a weight management program which utilizes coaching\, meal replacements\, and technology to help our members create a healthy lifestyle.
LOCATION:Lakeport Commons 5001 Sergeant Road\, Suite 375
UID:e.769.4730
SEQUENCE:3
DTSTAMP:20260420T163512Z
URL:https://directory.siouxlandchamber.com/events/details/ribbon-cutting-profile-by-sanford-4730
END:VEVENT

END:VCALENDAR
