BEGIN:VCALENDAR
VERSION:2.0
PRODID:-//ChamberMaster//Event Calendar 2.0//EN
METHOD:PUBLISH
X-PUBLISHED-TTL:P3D
REFRESH-INTERVAL:P3D
CALSCALE:GREGORIAN
BEGIN:VEVENT
DTSTART:20200424T170000Z
DTEND:20200424T173000Z
X-MICROSOFT-CDO-ALLDAYEVENT:FALSE
SUMMARY:Ribbon Cutting - Professional Pool and Spa - POSTPONED
DESCRIPTION:Please join us for a Ribbon Cutting celebrating the renovations of Siouxland Chamber of Commerce member\, Professional Pool and Spa.
X-ALT-DESC;FMTTYPE=text/html:Please join us for a Ribbon Cutting celebrating the renovations of Siouxland Chamber of Commerce member\, Professional Pool and Spa.
LOCATION:325 West 23rd Street Sioux City\, IA 51104
UID:e.769.5360
SEQUENCE:3
DTSTAMP:20260421T182236Z
URL:https://directory.siouxlandchamber.com/events/details/ribbon-cutting-professional-pool-and-spa-postponed-5360
END:VEVENT

END:VCALENDAR
